BEGIN:VCALENDAR
VERSION:2.0
PRODID:-//ChamberMaster//Event Calendar 2.0//EN
METHOD:PUBLISH
X-PUBLISHED-TTL:P3D
REFRESH-INTERVAL:P3D
CALSCALE:GREGORIAN
BEGIN:VEVENT
DTSTART:20250410T213000Z
DTEND:20250410T233000Z
X-MICROSOFT-CDO-ALLDAYEVENT:FALSE
SUMMARY:An Evening with America's Test Kitchen Chefs
DESCRIPTION:Join us on Thursday\, April 10th at LaBelle Winery in Derry for an unforgettable evening of delicious food\, exquisite wines\, and lively conversation with America's Test Kitchen chefs Bridget Lancaster and Julia Collin Davison!\n\nEnjoy a curated menu of AMERICA'S TEST KITCHEN recipes expertly prepared by LaBelle Winery's Executive Chef Justin Bernatchez\, perfectly paired with wines hand-selected by Founder and Winemaker Amy LaBelle. Plus\, cookbooks will be available for purchase onsite through Gibson's Bookstore\, and you'll have the chance to meet the chefs\, get your books signed\, and even take a photo with them!\n\nAn Evening with America's Test Kitchen Chefs is presented in partnership with LaBelle Winery and proudly sponsored by Hitchiner Manufacturing Co.\,Inc.\, Enterprise Bank\, and D.F. Richard Energy.\n\nIf you or your company are interested in sponsoring this event\, please reach out to Beth Evans at bevans@nhpbs.org  for more information.
X-ALT-DESC;FMTTYPE=text/html:<p>Join us on Thursday\, April 10th at&nbsp\;<a href="https://labellewinery.com/labelle-winery-derry/" rel="nofollow noopener noreferrer" style="box-sizing: border-box\; background-color: transparent\; color: rgb(38\, 56\, 196)\; text-decoration-line: none\;" target="_blank" title="https://labellewinery.com/labelle-winery-derry/">LaBelle Winery in Derry</a>&nbsp\;for an unforgettable evening of delicious food\, exquisite wines\, and lively conversation with America&rsquo\;s Test Kitchen chefs&nbsp\;<a href="https://www.facebook.com/BridgetLancasterATK/" rel="nofollow noopener noreferrer" style="box-sizing: border-box\; background-color: transparent\; color: rgb(38\, 56\, 196)\; text-decoration-line: none\;" target="_blank" title="https://www.facebook.com/BridgetLancasterATK/">Bridget Lancaster</a>&nbsp\;and&nbsp\;<a href="https://www.instagram.com/juliacollindavison/?hl=en" rel="nofollow noopener noreferrer" style="box-sizing: border-box\; background-color: transparent\; color: rgb(38\, 56\, 196)\; text-decoration-line: none\;" target="_blank" title="https://www.instagram.com/juliacollindavison/?hl=en">Julia Collin Davison</a>!</p>\n\n<p>Enjoy a curated menu of&nbsp\;<a href="https://www.americastestkitchen.com/" rel="nofollow noopener noreferrer" style="box-sizing: border-box\; background-color: transparent\; color: rgb(38\, 56\, 196)\; text-decoration-line: none\;" target="_blank" title="https://www.americastestkitchen.com/">AMERICA&#39\;S TEST KITCHEN</a>&nbsp\;recipes expertly prepared by LaBelle Winery&#39\;s Executive Chef&nbsp\;<a href="https://labellewinery.com/about/the-labelle-team/" rel="nofollow noopener noreferrer" style="box-sizing: border-box\; background-color: transparent\; color: rgb(38\, 56\, 196)\; text-decoration-line: none\;" target="_blank" title="https://labellewinery.com/about/the-labelle-team/">Justin Bernatchez</a>\, perfectly paired with wines hand-selected by Founder and Winemaker&nbsp\;<a href="https://www.amylabelle.com/" rel="nofollow noopener noreferrer" style="box-sizing: border-box\; background-color: transparent\; color: rgb(38\, 56\, 196)\; text-decoration-line: none\;" target="_blank" title="https://www.amylabelle.com/">Amy LaBelle</a>. Plus\, cookbooks will be available for purchase onsite through&nbsp\;<a href="https://gibsonsbookstore.com/" rel="nofollow noopener noreferrer" style="box-sizing: border-box\; background-color: transparent\; color: rgb(38\, 56\, 196)\; text-decoration-line: none\;" target="_blank" title="https://gibsonsbookstore.com/">Gibson&#39\;s Bookstore</a>\, and you&rsquo\;ll have the chance to meet the chefs\, get your books signed\, and even take a photo with them!</p>\n\n<p>An Evening with America&#39\;s Test Kitchen Chefs is presented in partnership with&nbsp\;<a href="https://labellewinery.com/labelle-winery-derry/" rel="nofollow noopener noreferrer" style="box-sizing: border-box\; background-color: transparent\; color: rgb(38\, 56\, 196)\; text-decoration-line: none\;" target="_blank" title="https://labellewinery.com/labelle-winery-derry/">LaBelle Winery</a>&nbsp\;and proudly sponsored by&nbsp\;<a href="https://www.hitchiner.com/" rel="nofollow noopener noreferrer" style="box-sizing: border-box\; background-color: transparent\; color: rgb(38\, 56\, 196)\; text-decoration-line: none\;" target="_blank" title="https://www.hitchiner.com/">Hitchiner Manufacturing Co.\,Inc.\,</a>&nbsp\;<a href="https://www.enterprisebanking.com/" rel="nofollow noopener noreferrer" style="box-sizing: border-box\; background-color: transparent\; color: rgb(38\, 56\, 196)\; text-decoration-line: none\;" target="_blank" title="https://www.enterprisebanking.com/">Enterprise Bank\,&nbsp\;</a>and&nbsp\;<a href="https://www.dfrichard.com/" style="box-sizing: border-box\; background-color: transparent\; color: rgb(38\, 56\, 196)\; text-decoration-line: none\;">D.F. Richard Energy</a>.</p>\n\n<p>If you or your company are interested in sponsoring this event\, please reach out to Beth Evans at&nbsp\;<a href="mailto:bevans@nhpbs.org" style="box-sizing: border-box\; background-color: transparent\; color: rgb(38\, 56\, 196)\; text-decoration-line: none\;">bevans@nhpbs.org</a>&nbsp\;&nbsp\;for more information.</p>\n
LOCATION:LaBelle Winery Derry Event Center
UID:e.2627.6552
SEQUENCE:3
DTSTAMP:20260421T223517Z
URL:https://members.nashuachamber.com/events/details/an-evening-with-america-s-test-kitchen-chefs-6552
END:VEVENT

END:VCALENDAR
