BEGIN:VCALENDAR
VERSION:2.0
PRODID:-//ChamberMaster//Event Calendar 2.0//EN
METHOD:PUBLISH
X-PUBLISHED-TTL:P3D
REFRESH-INTERVAL:P3D
CALSCALE:GREGORIAN
BEGIN:VEVENT
DTSTART:20240523T123000Z
DTEND:20240523T133000Z
X-MICROSOFT-CDO-ALLDAYEVENT:FALSE
SUMMARY:Business Education: Breakfast Briefs - Sandwich Generation
DESCRIPTION:You've got two generations that need your care: kids at home and older parents. How to meet everyone's needs (including your own) and juggle it all can create stress. You're what's known as the "Sandwich Generation." Sandwich generation stress impacts most adults with children and aging parents who depend on them for care. Challenges of planning activities\, organizing\, delivering hands-on caregiving\, managing relationships\, and paying bills\, and it's no wonder that we   parents of children\, who are also the children of older parents   get exhausted!\n\n \n\nIn this webinar\, you will learn about:\n\n\n	The unique challenges facing caregivers in the sandwich generation\n	Strategies and tools to mitigate these challenges\n	How self-compassion can help us reduce stress and cope more effectively
X-ALT-DESC;FMTTYPE=text/html:<p style="margin: 0px\; padding: 0px\; color: rgb(0\, 0\, 0)\; font-family: &quot\;Open Sans&quot\;\, sans-serif\; font-size: 14px\; white-space-collapse: preserve\;"><span style="font-size: 16px\; color: rgb(20\, 24\, 39)\;">You&rsquo\;ve got two generations that need your care: kids at home and older parents. How to meet everyone&rsquo\;s needs (including your own) and juggle it all can create stress. You&rsquo\;re what&rsquo\;s known as the &ldquo\;Sandwich Generation.&rdquo\; </span><span style="font-size: 16px\; color: rgb(26\, 26\, 26)\;">Sandwich generation stress impacts most adults with children and aging parents who depend on them for care.&nbsp\;Challenges of planning activities\, organizing\, delivering hands-on caregiving\, managing relationships\, and paying bills\, and it&rsquo\;s no wonder that we &mdash\; parents of children\, who are also the children of older parents &mdash\; get exhausted!</span></p>\n\n<p style="margin: 0px\; padding: 0px\; color: rgb(0\, 0\, 0)\; font-family: &quot\;Open Sans&quot\;\, sans-serif\; font-size: 14px\; white-space-collapse: preserve\;">&nbsp\;</p>\n\n<p style="margin: 0px\; padding: 0px\; color: rgb(0\, 0\, 0)\; font-family: &quot\;Open Sans&quot\;\, sans-serif\; font-size: 14px\; white-space-collapse: preserve\;"><span style="font-size: 16px\; color: rgb(26\, 26\, 26)\;">In this webinar\, you will learn about:</span></p>\n\n<ul style="padding-right: 0px\; padding-left: 0px\; margin: 0px 0px 0px 40px\; color: rgb(0\, 0\, 0)\; font-family: &quot\;Open Sans&quot\;\, sans-serif\; font-size: 14px\; white-space-collapse: preserve\;">\n	<li style="padding: 0px\; margin: 0px\; font-size: 16px\; color: rgb(26\, 26\, 26)\;">The unique challenges facing caregivers in the sandwich generation</li>\n	<li style="padding: 0px\; margin: 0px\; font-size: 16px\; color: rgb(26\, 26\, 26)\;">Strategies and tools to mitigate these challenges</li>\n	<li style="padding: 0px\; margin: 0px\; font-size: 16px\; color: rgb(26\, 26\, 26)\;">How self-compassion can help us reduce&nbsp\;<a href="https://www.additudemag.com/stressors-adhd-brain/" style="text-decoration-line: none\; color: rgb(26\, 26\, 26)\;" target="_blank">stress</a>&nbsp\;and cope more effectively</li>\n</ul>\n
LOCATION:Virtual
UID:e.2627.6284
SEQUENCE:3
DTSTAMP:20260423T111500Z
URL:https://members.nashuachamber.com/events/details/business-education-breakfast-briefs-sandwich-generation-6284
END:VEVENT

END:VCALENDAR
