BEGIN:VCALENDAR
VERSION:2.0
PRODID:-//ChamberMaster//Event Calendar 2.0//EN
METHOD:PUBLISH
X-PUBLISHED-TTL:P3D
REFRESH-INTERVAL:P3D
CALSCALE:GREGORIAN
BEGIN:VEVENT
DTSTART:20220913T213000Z
DTEND:20220913T223000Z
X-MICROSOFT-CDO-ALLDAYEVENT:FALSE
SUMMARY:Chamber Trip to Greece March 2023 Information Night
DESCRIPTION:Is a trip to Greece on your Bucket List? Ours too!\n\n\n\nJoin the Greater Nashua Chamber of Commerce and the Upper Valley Business Alliance as we welcome Vaib Syal from Adventura World Travel for an Information Night about our joint-Chamber trip to Greece in March 2023!\n\n\n\nExtended stay in one location! Air\, First Class Hotels\, All Meals\, All Day Drinks & Many Day Tours Included! Optional Santorini Extension.\n\n\n\nFrom $3\,099 Land / Air\n\n\n\nFREE Delphi tour if you book before November!
X-ALT-DESC;FMTTYPE=text/html:<span style="font-size:18px\;"><span style="font-family:verdana\;">Is a trip to Greece on your Bucket List? Ours too!<br />\n<br />\nJoin the Greater Nashua Chamber of Commerce and the Upper Valley Business Alliance as we welcome Vaib Syal from Adventura World Travel for an Information Night about our joint-Chamber trip to Greece in March 2023!</span></span><br />\n<br />\n<span style="font-size:20px\;"><span class="JsGRdQ" style="color: rgb(0\, 0\, 0)\; font-weight: 700\;">Extended stay in one location</span><span class="JsGRdQ" style="color: rgb(0\, 0\, 0)\;">! Air\, First Class Hotels\, All Meals\, All Day Drinks &amp\; Many Day Tours Included! Optional Santorini Extension.<br />\n<br />\nFrom $3\,099 Land / Air<br />\n<br />\n<strong>FREE</strong> Delphi tour if you book before November!</span></span>
LOCATION:via ZOOM
UID:e.2627.5889
SEQUENCE:3
DTSTAMP:20260420T034736Z
URL:https://members.nashuachamber.com/events/details/chamber-trip-to-greece-march-2023-information-night-5889
END:VEVENT

END:VCALENDAR
