BEGIN:VCALENDAR
VERSION:2.0
PRODID:-//ChamberMaster//Event Calendar 2.0//EN
METHOD:PUBLISH
X-PUBLISHED-TTL:P3D
REFRESH-INTERVAL:P3D
CALSCALE:GREGORIAN
BEGIN:VEVENT
DTSTART;VALUE=DATE:20251101
DTEND;VALUE=DATE:20251102
TRANSP:TRANSPARENT
X-MICROSOFT-CDO-ALLDAYEVENT:TRUE
SUMMARY:GD Psych Services Winter Clothing Drive
DESCRIPTION:Join us in giving back this winter!\n\n\n\nWe're hosting a Winter Clothing Drive to support local community members who need help staying warm during the colder months. From now until November 1st we're accepting new or gently used winter essentials including coats\, hats\, gloves\, and scarves. You can pick up donations from November 1st to the 15th during business hours. Any left over clothing items will be donated to local shelters!\n\n\n\nYou can drop off your donations at our Nashua office located at 221 Main St\, Suite 301 Nashua\, NH. Let's make this season a little brighter for someone in need.
X-ALT-DESC;FMTTYPE=text/html:Join us in giving back this winter!<br />\n<br />\nWe&rsquo\;re hosting a Winter Clothing Drive to support local community members who need help staying warm during the colder months. From now until November 1st we&rsquo\;re accepting <strong>new or gently used</strong> winter essentials including coats\, hats\, gloves\, and scarves. You can pick up donations from November 1st to the 15th during business hours. Any left over clothing items will be donated to local shelters!<br />\n<br />\nYou can drop off your donations at our Nashua office located at 221 Main St\, Suite 301 Nashua\, NH. Let&#39\;s make this season a little brighter for someone in need.
LOCATION:221 Main St\, Suite 301 Nashua\, NH
UID:e.2627.6857
SEQUENCE:3
DTSTAMP:20260423T214048Z
URL:https://members.nashuachamber.com/events/details/gd-psych-services-winter-clothing-drive-6857
END:VEVENT

END:VCALENDAR
