BEGIN:VCALENDAR
VERSION:2.0
PRODID:-//ChamberMaster//Event Calendar 2.0//EN
METHOD:PUBLISH
X-PUBLISHED-TTL:P3D
REFRESH-INTERVAL:P3D
CALSCALE:GREGORIAN
BEGIN:VEVENT
DTSTART:20260528T121500Z
DTEND:20260528T160000Z
X-MICROSOFT-CDO-ALLDAYEVENT:FALSE
SUMMARY:Girls Inc. Champion Breakfast (Manchester)
DESCRIPTION:Join Girls Inc. NH at our annual Champions for the Girls Breakfast\, presented by NBT Bank. Enjoy a morning of connection\, inspiration\, and impact\, held right in the heart of our centers. We'll celebrate over 50 years of Girls Inc. of New Hampshire programming and the mission that continues to guide us: inspiring all girls to grow up strong\, smart\, and bold.\n\n \n\nEnjoy breakfast\, hear from the Girl of the Year\, and meet some of the people who make our work possible from dedicated mentors to future female leaders. You'll also learn how you can get involved and help create brighter futures for girls across New Hampshire.\n\n \n\nLink: https://secure.qgiv.com/for/championsforgirlsbreakfast/event/cfg26/
X-ALT-DESC;FMTTYPE=text/html:<div class="x_elementToProof" data-olk-copy-source="MessageBody" style="border: 0px\; font-variant-numeric: inherit\; font-variant-east-asian: inherit\; font-variant-alternates: inherit\; font-variant-position: inherit\; font-variant-emoji: inherit\; font-stretch: inherit\; font-size: 12pt\; line-height: inherit\; font-family: Aptos\, Aptos_EmbeddedFont\, Aptos_MSFontService\, Calibri\, Helvetica\, sans-serif\; font-optical-sizing: inherit\; font-size-adjust: inherit\; font-kerning: inherit\; font-feature-settings: inherit\; font-variation-settings: inherit\; font-language-override: inherit\; margin: 0px\; padding: 0px\; vertical-align: baseline\; color: rgb(0\, 0\, 0)\;">&nbsp\;Join Girls Inc. NH at our annual Champions for the Girls Breakfast\, presented by NBT Bank. Enjoy a morning of connection\, inspiration\, and impact\, held right in the heart of our centers. We&rsquo\;ll celebrate over 50 years of Girls Inc. of New Hampshire programming and the mission that continues to guide us: inspiring all girls to grow up strong\, smart\, and bold.</div>\n\n<div class="x_elementToProof" style="border: 0px\; font-variant-numeric: inherit\; font-variant-east-asian: inherit\; font-variant-alternates: inherit\; font-variant-position: inherit\; font-variant-emoji: inherit\; font-stretch: inherit\; font-size: 12pt\; line-height: inherit\; font-family: Aptos\, Aptos_EmbeddedFont\, Aptos_MSFontService\, Calibri\, Helvetica\, sans-serif\; font-optical-sizing: inherit\; font-size-adjust: inherit\; font-kerning: inherit\; font-feature-settings: inherit\; font-variation-settings: inherit\; font-language-override: inherit\; margin: 0px\; padding: 0px\; vertical-align: baseline\; color: rgb(0\, 0\, 0)\;">&nbsp\;</div>\n\n<div style="border: 0px\; font-variant-numeric: inherit\; font-variant-east-asian: inherit\; font-variant-alternates: inherit\; font-variant-position: inherit\; font-variant-emoji: inherit\; font-stretch: inherit\; font-size: 12pt\; line-height: inherit\; font-family: Aptos\, Aptos_EmbeddedFont\, Aptos_MSFontService\, Calibri\, Helvetica\, sans-serif\; font-optical-sizing: inherit\; font-size-adjust: inherit\; font-kerning: inherit\; font-feature-settings: inherit\; font-variation-settings: inherit\; font-language-override: inherit\; margin: 0px\; padding: 0px\; vertical-align: baseline\; color: rgb(0\, 0\, 0)\;">Enjoy breakfast\, hear from the Girl of the Year\, and meet some of the people who make our work possible&mdash\;from dedicated mentors to future female leaders. You&rsquo\;ll also learn how you can get involved and help create brighter futures for girls across New Hampshire.</div>\n\n<div style="border: 0px\; font-variant-numeric: inherit\; font-variant-east-asian: inherit\; font-variant-alternates: inherit\; font-variant-position: inherit\; font-variant-emoji: inherit\; font-stretch: inherit\; font-size: 12pt\; line-height: inherit\; font-family: Aptos\, Aptos_EmbeddedFont\, Aptos_MSFontService\, Calibri\, Helvetica\, sans-serif\; font-optical-sizing: inherit\; font-size-adjust: inherit\; font-kerning: inherit\; font-feature-settings: inherit\; font-variation-settings: inherit\; font-language-override: inherit\; margin: 0px\; padding: 0px\; vertical-align: baseline\; color: rgb(0\, 0\, 0)\;">&nbsp\;</div>\n\n<div class="x_elementToProof" style="border: 0px\; font-variant-numeric: inherit\; font-variant-east-asian: inherit\; font-variant-alternates: inherit\; font-variant-position: inherit\; font-variant-emoji: inherit\; font-stretch: inherit\; font-size: 15px\; line-height: inherit\; font-family: Aptos\, Aptos_EmbeddedFont\, Aptos_MSFontService\, Calibri\, Helvetica\, sans-serif\; font-optical-sizing: inherit\; font-size-adjust: inherit\; font-kerning: inherit\; font-feature-settings: inherit\; font-variation-settings: inherit\; font-language-override: inherit\; margin: 0px\; padding: 0px\; vertical-align: baseline\; color: rgb(0\, 0\, 0)\;"><span style="border: 0px\; font-style: inherit\; font-variant: inherit\; font-weight: inherit\; font-stretch: inherit\; font-size: 12pt\; line-height: inherit\; font-family: inherit\; font-optical-sizing: inherit\; font-size-adjust: inherit\; font-kerning: inherit\; font-feature-settings: inherit\; font-variation-settings: inherit\; font-language-override: inherit\; margin: 0px\; padding: 0px\; vertical-align: baseline\; color: inherit\;">Link:&nbsp\;</span><span style="border: 0px\; font-style: inherit\; font-variant: inherit\; font-weight: inherit\; font-stretch: inherit\; font-size: 16px\; line-height: inherit\; font-family: inherit\; font-optical-sizing: inherit\; font-size-adjust: inherit\; font-kerning: inherit\; font-feature-settings: inherit\; font-variation-settings: inherit\; font-language-override: inherit\; margin: 0px\; padding: 0px\; vertical-align: baseline\; color: inherit\;"><a class="x_OWAAutoLink" data-auth="NotApplicable" data-linkindex="0" data-olk-copy-source="MessageBody" href="https://secure.qgiv.com/for/championsforgirlsbreakfast/event/cfg26/" id="OWA2b1adb27-1e8e-fa5f-c42e-fd108543b656" originalsrc="https://secure.qgiv.com/for/championsforgirlsbreakfast/event/cfg26/" style="border: 0px\; font: inherit\; margin: 0px\; padding: 0px\; vertical-align: baseline\;" title="https://secure.qgiv.com/for/championsforgirlsbreakfast/event/cfg26/">https://secure.qgiv.com/for/championsforgirlsbreakfast/event/cfg26/</a></span></div>\n
LOCATION:340 Varney St\, Manchester\, NH 03102
UID:e.2627.9917
SEQUENCE:3
DTSTAMP:20260422T165337Z
URL:https://members.nashuachamber.com/events/details/girls-inc-champion-breakfast-manchester-9917
END:VEVENT

END:VCALENDAR
