BEGIN:VCALENDAR
VERSION:2.0
PRODID:-//ChamberMaster//Event Calendar 2.0//EN
METHOD:PUBLISH
X-PUBLISHED-TTL:P3D
REFRESH-INTERVAL:P3D
CALSCALE:GREGORIAN
BEGIN:VEVENT
DTSTART:20240110T223000Z
DTEND:20240111T003000Z
X-MICROSOFT-CDO-ALLDAYEVENT:FALSE
SUMMARY:January 2024 BAH with Positive Street Art
DESCRIPTION:Ring in the New Year with Positive Street Art for the first Business After Hours of 2024 and the celebration of PSA's 12 Year Anniversary!\n\n\n\n \nStep into the vibrant world of Positive Street Art as we kick off the new year in style! Join us for a networking event like no other\, where creativity meets commerce in the heart of celebration. As we toast to the beginning of a promising year\, we're also marking a significant milestone 12 years of spreading positivity through art. It's more than just a business gathering\; it's a celebration of creativity\, community\, and a dozen years of making the streets brighter. Come for the connections\, stay for the art\, and let's paint the town with positivity together!
X-ALT-DESC;FMTTYPE=text/html:<div style="text-align: center\;"><br />\n<font face="verdana"><span style="font-size: 16px\;"><b>Ring in the New Year with Positive Street Art for the first Business After Hours of 2024 and the celebration of PSA&#39\;s 12 Year Anniversary!</b></span></font><br />\n<br />\n&nbsp\;\n<div background-color:="" font-size:="" style="color: rgb(51\, 51\, 51)\; font-family: sans-serif\, Arial\, Verdana\, " text-align:="" trebuchet=""><span style="font-size:20px\;"><span style="color: rgb(55\, 65\, 81)\; font-family: Söhne\, ui-sans-serif\, system-ui\, -apple-system\, &quot\;Segoe UI&quot\;\, Roboto\, Ubuntu\, Cantarell\, &quot\;Noto Sans&quot\;\, sans-serif\, &quot\;Helvetica Neue&quot\;\, Arial\, &quot\;Apple Color Emoji&quot\;\, &quot\;Segoe UI Emoji&quot\;\, &quot\;Segoe UI Symbol&quot\;\, &quot\;Noto Color Emoji&quot\;\; white-space-collapse: preserve\;">Step into the vibrant world of </span><span style="font-family: Söhne\, ui-sans-serif\, system-ui\, -apple-system\, &quot\;Segoe UI&quot\;\, Roboto\, Ubuntu\, Cantarell\, &quot\;Noto Sans&quot\;\, sans-serif\, &quot\;Helvetica Neue&quot\;\, Arial\, &quot\;Apple Color Emoji&quot\;\, &quot\;Segoe UI Emoji&quot\;\, &quot\;Segoe UI Symbol&quot\;\, &quot\;Noto Color Emoji&quot\;\; white-space-collapse: preserve\;"><a href="https://www.positivestreetart.org/"><span style="color:#0000FF\;">Positive Street Art</span></a></span><span style="color: rgb(55\, 65\, 81)\; font-family: Söhne\, ui-sans-serif\, system-ui\, -apple-system\, &quot\;Segoe UI&quot\;\, Roboto\, Ubuntu\, Cantarell\, &quot\;Noto Sans&quot\;\, sans-serif\, &quot\;Helvetica Neue&quot\;\, Arial\, &quot\;Apple Color Emoji&quot\;\, &quot\;Segoe UI Emoji&quot\;\, &quot\;Segoe UI Symbol&quot\;\, &quot\;Noto Color Emoji&quot\;\; white-space-collapse: preserve\;"> as we kick off the new year in style! Join us for a networking event like no other\, where creativity meets commerce in the heart of celebration. As we toast to the beginning of a promising year\, we&#39\;re also marking a significant milestone&mdash\;12 years of spreading positivity through art. It&#39\;s more than just a business gathering\; it&#39\;s a celebration of creativity\, community\, and a dozen years of making the streets brighter. Come for the connections\, stay for the art\, and let&#39\;s paint the town with positivity together!</span></span></div>\n<br />\n&nbsp\;</div>\n
LOCATION:Positive Street Art 48 Bridge Street Nashua\, NH
UID:e.2627.6298
SEQUENCE:3
DTSTAMP:20260423T123448Z
URL:https://members.nashuachamber.com/events/details/january-2024-bah-with-positive-street-art-6298
END:VEVENT

END:VCALENDAR
