BEGIN:VCALENDAR
VERSION:2.0
PRODID:-//ChamberMaster//Event Calendar 2.0//EN
METHOD:PUBLISH
X-PUBLISHED-TTL:P3D
REFRESH-INTERVAL:P3D
CALSCALE:GREGORIAN
BEGIN:VEVENT
DTSTART:20250308T170000Z
DTEND:20250309T030000Z
X-MICROSOFT-CDO-ALLDAYEVENT:FALSE
SUMMARY:On Tap for CASA 2025
DESCRIPTION:We are happy to announce On Tap for CASA will be back again at New England's Tap House Grille in Hooksett in 2025!\n\nEach team captains a stool at the bar for 10 hours while competing in a variety of fun competitions to gain points. Come for the cause\, stay for the friendly competition (and good beer)!\n\nAll proceeds will benefit CASA's mission to recruit\, support\, and train volunteer advocates for children who have experienced abuse and neglect.\n\nTeams must be 5-10 members and commit to a $1\,200 fundraising minimum.\n\nStart your team today!\n\n\n\n \n\nEvent Schedule\n\nHere are the day's events   for more information about the games\, please see the 2025 Games Guide.\n\n11 a.m. Team Check-in\n\n12 p.m. Bingo\n\n1 p.m. Rebus Puzzle\n\n2 p.m. Ugly Sweater Competition\n\n3 p.m. Stein-hoisting Competition\n\n4 p.m. Name that Beer Label\n\n5-7 p.m. Music Break   Enjoy Rebel Collective\n\n7 p.m. Memory\n\n8 p.m. Coloring Contest\n\n9 p.m. Spin the Wheel\n\n10 p.m. Awards Presentation
X-ALT-DESC;FMTTYPE=text/html:<p style="box-sizing: border-box\; margin: 0.85em 0px\; padding: 0px\; border: 0px rgb(225\, 225\, 225)\; font-variant-numeric: inherit\; font-variant-east-asian: inherit\; font-variant-alternates: inherit\; font-variant-position: inherit\; font-variant-emoji: inherit\; font-stretch: inherit\; font-size: 18px\; line-height: 1.7\; font-family: roboto\, Helvetica\, Arial\, sans-serif\; font-optical-sizing: inherit\; font-size-adjust: inherit\; font-kerning: inherit\; font-feature-settings: inherit\; font-variation-settings: inherit\; vertical-align: baseline\; color: rgb(100\, 100\, 100)\;"><span style="color:#000000\;">We are happy to announce On Tap for CASA will be back again at New England&rsquo\;s Tap House Grille in Hooksett in 2025!</span></p>\n\n<p style="box-sizing: border-box\; margin: 0.85em 0px\; padding: 0px\; border: 0px rgb(225\, 225\, 225)\; font-variant-numeric: inherit\; font-variant-east-asian: inherit\; font-variant-alternates: inherit\; font-variant-position: inherit\; font-variant-emoji: inherit\; font-stretch: inherit\; font-size: 18px\; line-height: 1.7\; font-family: roboto\, Helvetica\, Arial\, sans-serif\; font-optical-sizing: inherit\; font-size-adjust: inherit\; font-kerning: inherit\; font-feature-settings: inherit\; font-variation-settings: inherit\; vertical-align: baseline\; color: rgb(100\, 100\, 100)\;"><span style="color:#000000\;">Each team captains a stool at the bar for 10 hours while competing in a variety of fun competitions to gain points. Come for the cause\, stay for the friendly competition (and good beer)!</span></p>\n\n<p style="box-sizing: border-box\; margin: 0.85em 0px\; padding: 0px\; border: 0px rgb(225\, 225\, 225)\; font-variant-numeric: inherit\; font-variant-east-asian: inherit\; font-variant-alternates: inherit\; font-variant-position: inherit\; font-variant-emoji: inherit\; font-stretch: inherit\; font-size: 18px\; line-height: 1.7\; font-family: roboto\, Helvetica\, Arial\, sans-serif\; font-optical-sizing: inherit\; font-size-adjust: inherit\; font-kerning: inherit\; font-feature-settings: inherit\; font-variation-settings: inherit\; vertical-align: baseline\; color: rgb(100\, 100\, 100)\;"><span style="color:#000000\;">All proceeds will benefit CASA&rsquo\;s mission to recruit\, support\, and train volunteer advocates for children who have experienced abuse and neglect.</span></p>\n\n<p style="box-sizing: border-box\; margin: 0.85em 0px\; padding: 0px\; border: 0px rgb(225\, 225\, 225)\; font-variant-numeric: inherit\; font-variant-east-asian: inherit\; font-variant-alternates: inherit\; font-variant-position: inherit\; font-variant-emoji: inherit\; font-stretch: inherit\; font-size: 18px\; line-height: 1.7\; font-family: roboto\, Helvetica\, Arial\, sans-serif\; font-optical-sizing: inherit\; font-size-adjust: inherit\; font-kerning: inherit\; font-feature-settings: inherit\; font-variation-settings: inherit\; vertical-align: baseline\; color: rgb(100\, 100\, 100)\;"><span style="color:#000000\;"><strong style="box-sizing: border-box\; margin: 0px\; padding: 0px\; border: 0px rgb(225\, 225\, 225)\; font-style: inherit\; font-variant: inherit\; font-stretch: inherit\; font-size: inherit\; line-height: inherit\; font-family: inherit\; font-optical-sizing: inherit\; font-size-adjust: inherit\; font-kerning: inherit\; font-feature-settings: inherit\; font-variation-settings: inherit\; vertical-align: baseline\; color: rgb(238\, 27\, 45)\;"><em style="box-sizing: border-box\; margin: 0px\; padding: 0px\; border: 0px rgb(225\, 225\, 225)\; font-variant: inherit\; font-weight: inherit\; font-stretch: inherit\; font-size: inherit\; line-height: inherit\; font-family: inherit\; font-optical-sizing: inherit\; font-size-adjust: inherit\; font-kerning: inherit\; font-feature-settings: inherit\; font-variation-settings: inherit\; vertical-align: baseline\;">Teams must be 5-10 members and commit to a $1\,200 fundraising minimum.</em></strong></span></p>\n\n<p style="box-sizing: border-box\; margin: 0.85em 0px\; padding: 0px\; border: 0px rgb(225\, 225\, 225)\; font-variant-numeric: inherit\; font-variant-east-asian: inherit\; font-variant-alternates: inherit\; font-variant-position: inherit\; font-variant-emoji: inherit\; font-stretch: inherit\; font-size: 18px\; line-height: 1.7\; font-family: roboto\, Helvetica\, Arial\, sans-serif\; font-optical-sizing: inherit\; font-size-adjust: inherit\; font-kerning: inherit\; font-feature-settings: inherit\; font-variation-settings: inherit\; vertical-align: baseline\; color: rgb(100\, 100\, 100)\;"><span style="color:#000000\;">Start your team today!</span><br />\n<br />\n&nbsp\;</p>\n\n<h2 style="box-sizing: border-box\; margin: 0px 0px 10px\; padding: 0px\; border: 0px rgb(225\, 225\, 225)\; font-variant-numeric: inherit\; font-variant-east-asian: inherit\; font-variant-alternates: inherit\; font-variant-position: inherit\; font-variant-emoji: inherit\; font-weight: 600\; font-stretch: inherit\; font-size: 28px\; line-height: 1.1em\; font-family: oswald\, Helvetica\, Arial\, sans-serif\; font-optical-sizing: inherit\; font-size-adjust: inherit\; font-kerning: inherit\; font-feature-settings: inherit\; font-variation-settings: inherit\; vertical-align: baseline\; color: rgb(0\, 68\, 124)\; letter-spacing: 1px\; text-align: center\;"><strong style="box-sizing: border-box\; margin: 0px\; padding: 0px\; border: 0px rgb(225\, 225\, 225)\; font-style: inherit\; font-variant: inherit\; font-stretch: inherit\; font-size: inherit\; line-height: inherit\; font-family: inherit\; font-optical-sizing: inherit\; font-size-adjust: inherit\; font-kerning: inherit\; font-feature-settings: inherit\; font-variation-settings: inherit\; vertical-align: baseline\; color: inherit\;">Event Schedule</strong></h2>\n\n<p style="box-sizing: border-box\; margin: 0.85em 0px\; padding: 0px\; border: 0px rgb(225\, 225\, 225)\; font-variant-numeric: inherit\; font-variant-east-asian: inherit\; font-variant-alternates: inherit\; font-variant-position: inherit\; font-variant-emoji: inherit\; font-stretch: inherit\; font-size: 18px\; line-height: 1.7\; font-family: roboto\, Helvetica\, Arial\, sans-serif\; font-optical-sizing: inherit\; font-size-adjust: inherit\; font-kerning: inherit\; font-feature-settings: inherit\; font-variation-settings: inherit\; vertical-align: baseline\; color: rgb(100\, 100\, 100)\; text-align: center\;">Here are the day&rsquo\;s events &ndash\; for more information about the games\, please see the&nbsp\;<a href="https://casanh.org/wp-content/uploads/2025/01/Games-Guide-2025.pdf" rel="noopener" style="box-sizing: border-box\; text-decoration-line: none\; margin: 0px\; padding: 0px\; border: 0px rgb(225\, 225\, 225)\; font: inherit\; vertical-align: baseline\; outline: 0px\; max-width: 100%\; color: rgb(22\, 168\, 224)\;" target="_blank">2025 Games Guide</a>.</p>\n\n<p style="box-sizing: border-box\; margin: 0.85em 0px\; padding: 0px\; border: 0px rgb(225\, 225\, 225)\; font-variant-numeric: inherit\; font-variant-east-asian: inherit\; font-variant-alternates: inherit\; font-variant-position: inherit\; font-variant-emoji: inherit\; font-stretch: inherit\; font-size: 18px\; line-height: 1.7\; font-family: roboto\, Helvetica\, Arial\, sans-serif\; font-optical-sizing: inherit\; font-size-adjust: inherit\; font-kerning: inherit\; font-feature-settings: inherit\; font-variation-settings: inherit\; vertical-align: baseline\; color: rgb(100\, 100\, 100)\; text-align: center\;">11 a.m. Team Check-in</p>\n\n<p style="box-sizing: border-box\; margin: 0.85em 0px\; padding: 0px\; border: 0px rgb(225\, 225\, 225)\; font-variant-numeric: inherit\; font-variant-east-asian: inherit\; font-variant-alternates: inherit\; font-variant-position: inherit\; font-variant-emoji: inherit\; font-stretch: inherit\; font-size: 18px\; line-height: 1.7\; font-family: roboto\, Helvetica\, Arial\, sans-serif\; font-optical-sizing: inherit\; font-size-adjust: inherit\; font-kerning: inherit\; font-feature-settings: inherit\; font-variation-settings: inherit\; vertical-align: baseline\; color: rgb(100\, 100\, 100)\; text-align: center\;">12 p.m. Bingo</p>\n\n<p style="box-sizing: border-box\; margin: 0.85em 0px\; padding: 0px\; border: 0px rgb(225\, 225\, 225)\; font-variant-numeric: inherit\; font-variant-east-asian: inherit\; font-variant-alternates: inherit\; font-variant-position: inherit\; font-variant-emoji: inherit\; font-stretch: inherit\; font-size: 18px\; line-height: 1.7\; font-family: roboto\, Helvetica\, Arial\, sans-serif\; font-optical-sizing: inherit\; font-size-adjust: inherit\; font-kerning: inherit\; font-feature-settings: inherit\; font-variation-settings: inherit\; vertical-align: baseline\; color: rgb(100\, 100\, 100)\; text-align: center\;">1 p.m. Rebus Puzzle</p>\n\n<p style="box-sizing: border-box\; margin: 0.85em 0px\; padding: 0px\; border: 0px rgb(225\, 225\, 225)\; font-variant-numeric: inherit\; font-variant-east-asian: inherit\; font-variant-alternates: inherit\; font-variant-position: inherit\; font-variant-emoji: inherit\; font-stretch: inherit\; font-size: 18px\; line-height: 1.7\; font-family: roboto\, Helvetica\, Arial\, sans-serif\; font-optical-sizing: inherit\; font-size-adjust: inherit\; font-kerning: inherit\; font-feature-settings: inherit\; font-variation-settings: inherit\; vertical-align: baseline\; color: rgb(100\, 100\, 100)\; text-align: center\;">2 p.m. Ugly Sweater Competition</p>\n\n<p style="box-sizing: border-box\; margin: 0.85em 0px\; padding: 0px\; border: 0px rgb(225\, 225\, 225)\; font-variant-numeric: inherit\; font-variant-east-asian: inherit\; font-variant-alternates: inherit\; font-variant-position: inherit\; font-variant-emoji: inherit\; font-stretch: inherit\; font-size: 18px\; line-height: 1.7\; font-family: roboto\, Helvetica\, Arial\, sans-serif\; font-optical-sizing: inherit\; font-size-adjust: inherit\; font-kerning: inherit\; font-feature-settings: inherit\; font-variation-settings: inherit\; vertical-align: baseline\; color: rgb(100\, 100\, 100)\; text-align: center\;">3 p.m. Stein-hoisting Competition</p>\n\n<p style="box-sizing: border-box\; margin: 0.85em 0px\; padding: 0px\; border: 0px rgb(225\, 225\, 225)\; font-variant-numeric: inherit\; font-variant-east-asian: inherit\; font-variant-alternates: inherit\; font-variant-position: inherit\; font-variant-emoji: inherit\; font-stretch: inherit\; font-size: 18px\; line-height: 1.7\; font-family: roboto\, Helvetica\, Arial\, sans-serif\; font-optical-sizing: inherit\; font-size-adjust: inherit\; font-kerning: inherit\; font-feature-settings: inherit\; font-variation-settings: inherit\; vertical-align: baseline\; color: rgb(100\, 100\, 100)\; text-align: center\;">4 p.m. Name that Beer Label</p>\n\n<p style="box-sizing: border-box\; margin: 0.85em 0px\; padding: 0px\; border: 0px rgb(225\, 225\, 225)\; font-variant-numeric: inherit\; font-variant-east-asian: inherit\; font-variant-alternates: inherit\; font-variant-position: inherit\; font-variant-emoji: inherit\; font-stretch: inherit\; font-size: 18px\; line-height: 1.7\; font-family: roboto\, Helvetica\, Arial\, sans-serif\; font-optical-sizing: inherit\; font-size-adjust: inherit\; font-kerning: inherit\; font-feature-settings: inherit\; font-variation-settings: inherit\; vertical-align: baseline\; color: rgb(100\, 100\, 100)\; text-align: center\;">5-7 p.m. Music Break &ndash\; Enjoy Rebel Collective</p>\n\n<p style="box-sizing: border-box\; margin: 0.85em 0px\; padding: 0px\; border: 0px rgb(225\, 225\, 225)\; font-variant-numeric: inherit\; font-variant-east-asian: inherit\; font-variant-alternates: inherit\; font-variant-position: inherit\; font-variant-emoji: inherit\; font-stretch: inherit\; font-size: 18px\; line-height: 1.7\; font-family: roboto\, Helvetica\, Arial\, sans-serif\; font-optical-sizing: inherit\; font-size-adjust: inherit\; font-kerning: inherit\; font-feature-settings: inherit\; font-variation-settings: inherit\; vertical-align: baseline\; color: rgb(100\, 100\, 100)\; text-align: center\;">7 p.m. Memory</p>\n\n<p style="box-sizing: border-box\; margin: 0.85em 0px\; padding: 0px\; border: 0px rgb(225\, 225\, 225)\; font-variant-numeric: inherit\; font-variant-east-asian: inherit\; font-variant-alternates: inherit\; font-variant-position: inherit\; font-variant-emoji: inherit\; font-stretch: inherit\; font-size: 18px\; line-height: 1.7\; font-family: roboto\, Helvetica\, Arial\, sans-serif\; font-optical-sizing: inherit\; font-size-adjust: inherit\; font-kerning: inherit\; font-feature-settings: inherit\; font-variation-settings: inherit\; vertical-align: baseline\; color: rgb(100\, 100\, 100)\; text-align: center\;">8 p.m. Coloring Contest</p>\n\n<p style="box-sizing: border-box\; margin: 0.85em 0px\; padding: 0px\; border: 0px rgb(225\, 225\, 225)\; font-variant-numeric: inherit\; font-variant-east-asian: inherit\; font-variant-alternates: inherit\; font-variant-position: inherit\; font-variant-emoji: inherit\; font-stretch: inherit\; font-size: 18px\; line-height: 1.7\; font-family: roboto\, Helvetica\, Arial\, sans-serif\; font-optical-sizing: inherit\; font-size-adjust: inherit\; font-kerning: inherit\; font-feature-settings: inherit\; font-variation-settings: inherit\; vertical-align: baseline\; color: rgb(100\, 100\, 100)\; text-align: center\;">9 p.m. Spin the Wheel</p>\n\n<p style="box-sizing: border-box\; margin: 0.85em 0px\; padding: 0px\; border: 0px rgb(225\, 225\, 225)\; font-variant-numeric: inherit\; font-variant-east-asian: inherit\; font-variant-alternates: inherit\; font-variant-position: inherit\; font-variant-emoji: inherit\; font-stretch: inherit\; font-size: 18px\; line-height: 1.7\; font-family: roboto\, Helvetica\, Arial\, sans-serif\; font-optical-sizing: inherit\; font-size-adjust: inherit\; font-kerning: inherit\; font-feature-settings: inherit\; font-variation-settings: inherit\; vertical-align: baseline\; color: rgb(100\, 100\, 100)\; text-align: center\;">10 p.m. Awards Presentation</p>\n\n<p style="box-sizing: border-box\; margin: 0.85em 0px\; padding: 0px\; border: 0px rgb(225\, 225\, 225)\; font-variant-numeric: inherit\; font-variant-east-asian: inherit\; font-variant-alternates: inherit\; font-variant-position: inherit\; font-variant-emoji: inherit\; font-stretch: inherit\; font-size: 18px\; line-height: 1.7\; font-family: roboto\, Helvetica\, Arial\, sans-serif\; font-optical-sizing: inherit\; font-size-adjust: inherit\; font-kerning: inherit\; font-feature-settings: inherit\; font-variation-settings: inherit\; vertical-align: baseline\; color: rgb(100\, 100\, 100)\;">&nbsp\;</p>\n
LOCATION:NH Tap House Grille 1292 Hooksett Rd. Hooksett NH 03106
UID:e.2627.6536
SEQUENCE:3
DTSTAMP:20260421T184209Z
URL:https://members.nashuachamber.com/events/details/on-tap-for-casa-2025-6536
END:VEVENT

END:VCALENDAR
