BEGIN:VCALENDAR
VERSION:2.0
PRODID:-//ChamberMaster//Event Calendar 2.0//EN
METHOD:PUBLISH
X-PUBLISHED-TTL:P3D
REFRESH-INTERVAL:P3D
CALSCALE:GREGORIAN
BEGIN:VEVENT
DTSTART:20260804T200000Z
DTEND:20260804T220000Z
X-MICROSOFT-CDO-ALLDAYEVENT:FALSE
SUMMARY:Optima Dermatology & Medical Aesthetics Ribbon Cutting
DESCRIPTION:Please join us for our grand opening event and ribbon cutting ceremony with the Greater Nashua Chamber of Commerce\n\nfrom 4-6 PM at 169 Daniel Webster Highway\, Suite 300. Meet our expert team\, tour the facility\, and enjoy food and refreshments. Raffles and giveaways will also be available. We look forward to seeing everyone there!
X-ALT-DESC;FMTTYPE=text/html:Please join us for our grand opening event and ribbon cutting ceremony with the Greater Nashua Chamber of Commerce<br />\nfrom 4-6 PM at 169 Daniel Webster Highway\, Suite 300. Meet our expert team\, tour the facility\, and enjoy food and refreshments. Raffles and giveaways will also be available. We look forward to seeing everyone there!
LOCATION:169 Daniel Webster Highway Suite 300
UID:e.2627.9838
SEQUENCE:3
DTSTAMP:20260422T131007Z
URL:https://members.nashuachamber.com/events/details/optima-dermatology-medical-aesthetics-ribbon-cutting-9838
END:VEVENT

END:VCALENDAR
