BEGIN:VCALENDAR
VERSION:2.0
PRODID:-//ChamberMaster//Event Calendar 2.0//EN
METHOD:PUBLISH
X-PUBLISHED-TTL:P3D
REFRESH-INTERVAL:P3D
CALSCALE:GREGORIAN
BEGIN:VEVENT
DTSTART:20260521T160000Z
DTEND:20260521T170000Z
X-MICROSOFT-CDO-ALLDAYEVENT:FALSE
SUMMARY:Out of the Box Midday Networking May 2026
DESCRIPTION:Join us for our monthly Out of the Box lunch with pizza\, salad\, and dessert provided by the Chamber!\n\n\n\nThis is a great opportunity to step away from your desk for an hour and network with fellow chamber members in a more intimate setting*. This limited seating** social will not only allow an easy transition to networking but also allow you to make lasting connections. Each month we offer a Chamber member the opportunity to present on their business and a relevant topic for the group\, helping you make connections - both personal and professional. \n\n\n\nThis month our presenting member is NBT Bank.\n\n *Networking Format\n\n11:45am   12:00pm                Arrival\, mingling\, lunch\n\n                                                    If you wish to share business cards with the group\, please have them ready at this time. There will be another opportunity after the meeting's Presenter has concluded.\n\n12:00pm   12:05pm                Welcome (Chamber Staff)\n\n12:05pm   12:40pm                Member Introductions\n\n                                                    Each participating member will have up to 60 (sixty) seconds (timed) to introduce themselves and give their elevator pitch for their business.\n\n                                                    To ensure that all participants have an opportunity to speak\, we ask that all questions/comments/testimonials be held until after the meeting's Presenter has concluded their presentation.\n\n                                                    Please refrain from speaking out of turn or passing out business cards or materials at this time.\n\n12:40pm   12:55pm                Presenting Member Presentation\n\n                                                    Unless directed by Presenter\, please hold all questions and comments until the end of the presentation.\n\n                                                    Please refrain from having side conversations until the presentation has been completed.\n\n12:55pm   1:00pm                  Final Comments/Announcements (Chamber Staff)\n\n                                                    If you wish to share business cards with the group and were not able to at the beginning of the meeting\, please use this time to pass them out.\n\n **Limited Seating Event: This member-only (no guests permitted)\, lunchtime networking event has a maximum capacity of 24 people. Due to increased popularity and an ever-growing waitlist each month\, we ask that only one representative from each member organization register. Additionally\, if you are not able to attend after signing up please contact us no later than 4pm the Wednesday before. This gives us an opportunity to fill your place with a member from the waitlist and allows us an accurate headcount for ordering lunch.
X-ALT-DESC;FMTTYPE=text/html:<p font-size:="" text-align:="" trebuchet=""><span style="font-size: 16px\;"><span style="font-family: arial\;">Join us for our monthly Out of the Box lunch with pizza\, salad\, and dessert provided by the Chamber!</span></span><br />\n<br />\n<span style="font-size: 16px\;"><span style="font-family: arial\;">This is a great opportunity to step away from your desk for an hour and network with fellow chamber members in a more intimate setting*. This limited seating** social will not only allow an easy transition to networking but also allow you to make lasting connections. Each month we offer a Chamber member the opportunity to present on their business and a relevant topic for the group\, helping you make connections - both personal and professional.&nbsp\;<br />\n<br />\nThis month our presenting member is <a href="https://www.nbtbank.com/">NBT Bank</a>.</span></span></p>\n\n<p font-size:="" trebuchet=""><span style="font-size: 16px\;"><span style="font-family: arial\;">&nbsp\;</span></span><span style="font-size: 14px\;"><span style="font-family: arial\;"><strong>*Networking Format</strong><br />\n11:45am &ndash\; 12:00pm&nbsp\;&nbsp\;&nbsp\;&nbsp\;&nbsp\;&nbsp\;&nbsp\;&nbsp\;&nbsp\;&nbsp\;&nbsp\;&nbsp\;&nbsp\;&nbsp\;&nbsp\; Arrival\, mingling\, lunch</span></span><br />\n&nbsp\;&nbsp\;&nbsp\;&nbsp\;&nbsp\;&nbsp\;&nbsp\;&nbsp\;&nbsp\;&nbsp\;&nbsp\;&nbsp\;&nbsp\;&nbsp\;&nbsp\;&nbsp\;&nbsp\;&nbsp\;&nbsp\;&nbsp\;&nbsp\;&nbsp\;&nbsp\;&nbsp\;&nbsp\;&nbsp\;&nbsp\;&nbsp\;&nbsp\;&nbsp\;&nbsp\;&nbsp\;&nbsp\;&nbsp\;&nbsp\;&nbsp\;&nbsp\;&nbsp\;&nbsp\;&nbsp\;&nbsp\;&nbsp\;&nbsp\;&nbsp\;&nbsp\;&nbsp\;&nbsp\;&nbsp\;&nbsp\;&nbsp\;&nbsp\;&nbsp\;<span style="font-size: 14px\;"><span style="font-family: arial\;"><em>If you wish to share business cards with the group\, please have them ready at this time. There will be another opportunity after the meeting&rsquo\;s Presenter has concluded.</em></span></span><br />\n<span style="font-size: 14px\;"><span style="font-family: arial\;">12:00pm &ndash\; 12:05pm&nbsp\;&nbsp\;&nbsp\;&nbsp\;&nbsp\;&nbsp\;&nbsp\;&nbsp\;&nbsp\;&nbsp\;&nbsp\;&nbsp\;&nbsp\;&nbsp\;&nbsp\; Welcome (Chamber Staff)<br />\n12:05pm &ndash\; 12:40pm&nbsp\;&nbsp\;&nbsp\;&nbsp\;&nbsp\;&nbsp\;&nbsp\;&nbsp\;&nbsp\;&nbsp\;&nbsp\;&nbsp\;&nbsp\;&nbsp\;&nbsp\; Member Introductions</span></span><br />\n&nbsp\;&nbsp\;&nbsp\;&nbsp\;&nbsp\;&nbsp\;&nbsp\;&nbsp\;&nbsp\;&nbsp\;&nbsp\;&nbsp\;&nbsp\;&nbsp\;&nbsp\;&nbsp\;&nbsp\;&nbsp\;&nbsp\;&nbsp\;&nbsp\;&nbsp\;&nbsp\;&nbsp\;&nbsp\;&nbsp\;&nbsp\;&nbsp\;&nbsp\;&nbsp\;&nbsp\;&nbsp\;&nbsp\;&nbsp\;&nbsp\;&nbsp\;&nbsp\;&nbsp\;&nbsp\;&nbsp\;&nbsp\;&nbsp\;&nbsp\;&nbsp\;&nbsp\;&nbsp\;&nbsp\;&nbsp\;&nbsp\;&nbsp\;&nbsp\;&nbsp\;<span style="font-size: 14px\;"><span style="font-family: arial\;"><em>Each participating member will have up to 60 (sixty) seconds (timed) to introduce themselves and give their elevator pitch for their business.</em></span></span><br />\n&nbsp\;&nbsp\;&nbsp\;&nbsp\;&nbsp\;&nbsp\;&nbsp\;&nbsp\;&nbsp\;&nbsp\;&nbsp\;&nbsp\;&nbsp\;&nbsp\;&nbsp\;&nbsp\;&nbsp\;&nbsp\;&nbsp\;&nbsp\;&nbsp\;&nbsp\;&nbsp\;&nbsp\;&nbsp\;&nbsp\;&nbsp\;&nbsp\;&nbsp\;&nbsp\;&nbsp\;&nbsp\;&nbsp\;&nbsp\;&nbsp\;&nbsp\;&nbsp\;&nbsp\;&nbsp\;&nbsp\;&nbsp\;&nbsp\;&nbsp\;&nbsp\;&nbsp\;&nbsp\;&nbsp\;&nbsp\;&nbsp\;&nbsp\;&nbsp\;&nbsp\;<span style="font-size: 14px\;"><span style="font-family: arial\;"><em>To ensure that all participants have an opportunity to speak\, we ask that all questions/comments/testimonials be held until after the meeting&rsquo\;s Presenter has concluded their presentation.</em></span></span><br />\n&nbsp\;&nbsp\;&nbsp\;&nbsp\;&nbsp\;&nbsp\;&nbsp\;&nbsp\;&nbsp\;&nbsp\;&nbsp\;&nbsp\;&nbsp\;&nbsp\;&nbsp\;&nbsp\;&nbsp\;&nbsp\;&nbsp\;&nbsp\;&nbsp\;&nbsp\;&nbsp\;&nbsp\;&nbsp\;&nbsp\;&nbsp\;&nbsp\;&nbsp\;&nbsp\;&nbsp\;&nbsp\;&nbsp\;&nbsp\;&nbsp\;&nbsp\;&nbsp\;&nbsp\;&nbsp\;&nbsp\;&nbsp\;&nbsp\;&nbsp\;&nbsp\;&nbsp\;&nbsp\;&nbsp\;&nbsp\;&nbsp\;&nbsp\;&nbsp\;&nbsp\;<span style="font-size: 14px\;"><span style="font-family: arial\;"><em>Please refrain from speaking out of turn or passing out business cards or materials at this time.</em></span></span><br />\n<span style="font-size: 14px\;"><span style="font-family: arial\;">12:40pm &ndash\; 12:55pm&nbsp\;&nbsp\;&nbsp\;&nbsp\;&nbsp\;&nbsp\;&nbsp\;&nbsp\;&nbsp\;&nbsp\;&nbsp\;&nbsp\;&nbsp\;&nbsp\;&nbsp\; Presenting Member Presentation</span></span><br />\n&nbsp\;&nbsp\;&nbsp\;&nbsp\;&nbsp\;&nbsp\;&nbsp\;&nbsp\;&nbsp\;&nbsp\;&nbsp\;&nbsp\;&nbsp\;&nbsp\;&nbsp\;&nbsp\;&nbsp\;&nbsp\;&nbsp\;&nbsp\;&nbsp\;&nbsp\;&nbsp\;&nbsp\;&nbsp\;&nbsp\;&nbsp\;&nbsp\;&nbsp\;&nbsp\;&nbsp\;&nbsp\;&nbsp\;&nbsp\;&nbsp\;&nbsp\;&nbsp\;&nbsp\;&nbsp\;&nbsp\;&nbsp\;&nbsp\;&nbsp\;&nbsp\;&nbsp\;&nbsp\;&nbsp\;&nbsp\;&nbsp\;&nbsp\;&nbsp\;&nbsp\;<em><span style="font-size: 14px\;"><span style="font-family: arial\;">Unless directed by Presenter\, please hold all questions and comments until the end of the presentation.</span></span></em><br />\n&nbsp\;&nbsp\;&nbsp\;&nbsp\;&nbsp\;&nbsp\;&nbsp\;&nbsp\;&nbsp\;&nbsp\;&nbsp\;&nbsp\;&nbsp\;&nbsp\;&nbsp\;&nbsp\;&nbsp\;&nbsp\;&nbsp\;&nbsp\;&nbsp\;&nbsp\;&nbsp\;&nbsp\;&nbsp\;&nbsp\;&nbsp\;&nbsp\;&nbsp\;&nbsp\;&nbsp\;&nbsp\;&nbsp\;&nbsp\;&nbsp\;&nbsp\;&nbsp\;&nbsp\;&nbsp\;&nbsp\;&nbsp\;&nbsp\;&nbsp\;&nbsp\;&nbsp\;&nbsp\;&nbsp\;&nbsp\;&nbsp\;&nbsp\;&nbsp\;&nbsp\;<em><span style="font-size: 14px\;"><span style="font-family: arial\;">Please refrain from having side conversations until the presentation has been completed.</span></span></em><br />\n<span style="font-size: 14px\;"><span style="font-family: arial\;">12:55pm &ndash\; 1:00pm &nbsp\;&nbsp\;&nbsp\;&nbsp\;&nbsp\;&nbsp\;&nbsp\;&nbsp\;&nbsp\;&nbsp\;&nbsp\;&nbsp\;&nbsp\;&nbsp\;&nbsp\;&nbsp\; Final Comments/Announcements (Chamber Staff)</span></span><br />\n&nbsp\;&nbsp\;&nbsp\;&nbsp\;&nbsp\;&nbsp\;&nbsp\;&nbsp\;&nbsp\;&nbsp\;&nbsp\;&nbsp\;&nbsp\;&nbsp\;&nbsp\;&nbsp\;&nbsp\;&nbsp\;&nbsp\;&nbsp\;&nbsp\;&nbsp\;&nbsp\;&nbsp\;&nbsp\;&nbsp\;&nbsp\;&nbsp\;&nbsp\;&nbsp\;&nbsp\;&nbsp\;&nbsp\;&nbsp\;&nbsp\;&nbsp\;&nbsp\;&nbsp\;&nbsp\;&nbsp\;&nbsp\;&nbsp\;&nbsp\;&nbsp\;&nbsp\;&nbsp\;&nbsp\;&nbsp\;&nbsp\;&nbsp\;&nbsp\;&nbsp\;<span style="font-size: 14px\;"><span style="font-family: arial\;"><em>If you wish to share business cards with the group and were not able to at the beginning of the meeting\, please use this time to pass them out.</em></span></span></p>\n\n<p font-size:="" trebuchet=""><span style="font-size: 14px\;"><span style="font-family: arial\;">&nbsp\;**</span></span><strong style="font-family: arial\; font-size: 14px\;">Limited Seating Event</strong><span style="font-family: arial\; font-size: 14px\;">:&nbsp\;</span><em style="font-family: arial\; font-size: 14px\;">This member-only (no guests permitted)\, lunchtime networking event has a maximum capacity of 24 people. Due to increased popularity and an ever-growing waitlist each month\, we ask that only one representative from each member organization register. Additionally\,&nbsp\;if you are not able to attend after signing up please contact us no later than 4pm the Wednesday before. This gives us an opportunity to fill your place with a member from the waitlist and allows us an accurate headcount for ordering lunch.</em></p>\n
LOCATION:First Church Nashua 1 Concord St\, Nashua NH
UID:e.2627.9914
SEQUENCE:3
DTSTAMP:20260420T220148Z
URL:https://members.nashuachamber.com/events/details/out-of-the-box-midday-networking-may-2026-9914
END:VEVENT

END:VCALENDAR
